BEGIN:VCALENDAR
VERSION:2.0
PRODID:-//ChamberMaster//Event Calendar 2.0//EN
METHOD:PUBLISH
X-PUBLISHED-TTL:P3D
REFRESH-INTERVAL:P3D
CALSCALE:GREGORIAN
BEGIN:VEVENT
DTSTART;VALUE=DATE:20120421
DTEND;VALUE=DATE:20120422
TRANSP:TRANSPARENT
X-MICROSOFT-CDO-ALLDAYEVENT:TRUE
SUMMARY:GOLF TOURNAMENT KIWANIS CLUB OF DANIA
DESCRIPTION:The Kiwanis Club of Dania Beach would like to present the 25th Annual Golf Classic
X-ALT-DESC;FMTTYPE=text/html:<p style="text-align: center">\n	The Kiwanis Club of Dania Beach would like to present the 25th Annual Golf Classic</p>\n
LOCATION:Hollywood Beach Golf Resort 1650 Johnson St.\, Hollywood\, Fl
UID:e.828.257
SEQUENCE:3
DTSTAMP:20260425T145213Z
URL:http://business.daniabeachchamber.org/events/details/golf-tournament-kiwanis-club-of-dania-04-21-2012-257
END:VEVENT

END:VCALENDAR
