BEGIN:VCALENDAR
VERSION:2.0
PRODID:-//ChamberMaster//Event Calendar 2.0//EN
METHOD:PUBLISH
X-PUBLISHED-TTL:P3D
REFRESH-INTERVAL:P3D
CALSCALE:GREGORIAN
BEGIN:VEVENT
DTSTART:20120202T113000Z
DTEND:20120202T130000Z
X-MICROSOFT-CDO-ALLDAYEVENT:FALSE
SUMMARY:GROUNDHOG DAY ON HOLLYWOOD BEACH
DESCRIPTION:Live feed from PUNXSUTAWNEY\, PENNSYLVANIA\n\n	BREAKFAST 6:30-7:45 AM\n\n	\n\n	GROUNDHOG SWIM @ 7:30 AM\n\n	\n\n	ALL FOR THE LOW\, LOW PRICE OF A $10 DONATION\n\n	\n\n	\n\n	Proceeds benefit Hollywood Beach LIfe Guard Competition Team
X-ALT-DESC;FMTTYPE=text/html:<p>\n	Live feed from PUNXSUTAWNEY\, PENNSYLVANIA<br />\n	BREAKFAST 6:30-7:45 AM<br />\n	<br />\n	GROUNDHOG SWIM @ 7:30 AM<br />\n	<br />\n	ALL FOR THE LOW\, LOW PRICE OF A $10 DONATION<br />\n	<br />\n	<br />\n	Proceeds benefit Hollywood Beach LIfe Guard Competition Team</p>\n
LOCATION:Ocean Alley Restaurant @ Indiana Street and Broadwalk Hollywood Beach
UID:e.828.247
SEQUENCE:3
DTSTAMP:20260425T181644Z
URL:http://business.daniabeachchamber.org/events/details/groundhog-day-on-hollywood-beach-02-02-2012-247
END:VEVENT

END:VCALENDAR
