BEGIN:VCALENDAR
VERSION:2.0
PRODID:-//ChamberMaster//Event Calendar 2.0//EN
METHOD:PUBLISH
X-PUBLISHED-TTL:P3D
REFRESH-INTERVAL:P3D
CALSCALE:GREGORIAN
BEGIN:VEVENT
DTSTART:20170302T210000Z
DTEND:20170303T000000Z
X-MICROSOFT-CDO-ALLDAYEVENT:FALSE
SUMMARY:HISTORIC DOCKERS BUSINESS SOCIAL
DESCRIPTION:Join us every Thursday from 4-7pm for our Historic Dockers Business Social. Network with other professional in the area. All industry types are welcome.
X-ALT-DESC;FMTTYPE=text/html:Join us every Thursday from 4-7pm for our Historic Dockers Business Social. Network with other professional in the area. All industry types are welcome.
LOCATION:HISTORIC DOCKERS 318 N FEDERAL HIGHWAY DANIA BEACH\, FL 33004
UID:e.828.1138
SEQUENCE:3
DTSTAMP:20260419T131252Z
URL:http://business.daniabeachchamber.org/events/details/historic-dockers-business-social-03-02-2017-1138
END:VEVENT

END:VCALENDAR
