BEGIN:VCALENDAR
VERSION:2.0
PRODID:-//ChamberMaster//Event Calendar 2.0//EN
METHOD:PUBLISH
X-PUBLISHED-TTL:P3D
REFRESH-INTERVAL:P3D
CALSCALE:GREGORIAN
BEGIN:VEVENT
DTSTART:20170119T220000Z
DTEND:20170120T000000Z
X-MICROSOFT-CDO-ALLDAYEVENT:FALSE
SUMMARY:HISTORIC DOCKERS - TWO YEAR ANNIVERSARY
DESCRIPTION:Come Celebrate Our 2 Year Anniversary with us\n\nThursday January 19\, 2017 from 5pm-7pm\n\nComplementary Buffet & Live Music
X-ALT-DESC;FMTTYPE=text/html:<span style="font-size:14px\;"><span style="font-family: verdana\;"><span style="color: rgb(0\, 0\, 128)\;">Come Celebrate Our 2 Year Anniversary with us<br />\nThursday January 19\, 2017 from 5pm-7pm<br />\nComplementary Buffet &amp\; Live Music</span></span></span>
LOCATION:HISTORIC DOCKERS 318 N FEDERAL HIGHWAY Dania Beach\, FL 33004 (954) 925-5962
UID:e.828.1128
SEQUENCE:3
DTSTAMP:20260419T163845Z
URL:http://business.daniabeachchamber.org/events/details/historic-dockers-two-year-anniversary-1128
END:VEVENT

END:VCALENDAR
