BEGIN:VCALENDAR
VERSION:2.0
PRODID:-//ChamberMaster//Event Calendar 2.0//EN
METHOD:PUBLISH
X-PUBLISHED-TTL:P3D
REFRESH-INTERVAL:P3D
CALSCALE:GREGORIAN
BEGIN:VEVENT
DTSTART:20111208T223000Z
DTEND:20111209T003000Z
X-MICROSOFT-CDO-ALLDAYEVENT:FALSE
SUMMARY:HOLIDAY NETWORKING @ NYBERG-SWANSON
DESCRIPTION:HOLIDAY NETWORKING\n\n	at THE NYBERG-SWANSON HOUSE\n\n	Home of the Dania Beach Chamber\n\n	 Great  Food  &  Music
X-ALT-DESC;FMTTYPE=text/html:<p style="text-align: center\; margin: 0in 0in 0pt">\n	<span style="color: #006400"><strong><span style="font-family: 'arial black'\, 'sans-serif'\; font-size: 10pt"><span _fck_bookmark="1" style="display: none">&nbsp\;</span><span style="font-size: 16px">HOLIDAY NETWORKING</span><br />\n	at <span style="background-color: #ffffff">THE NYBERG-SWANSON HOUSE</span><br />\n	<span style="font-size: 16px"><u><em>Home of the Dania Beach Chamber</em></u></span></span></strong></span><br />\n	<span style="color: #b22222"><strong><span style="background-color: #ffffff">&nbsp\;</span><span style="font-size: 14px"><span style="background-color: #ffffff">Great&nbsp\; Food&nbsp\; &amp\;&nbsp\; Music</span></span></strong></span></p>\n
LOCATION:102 W Dania Beach Blvd Across the street from the New Library
UID:e.828.223
SEQUENCE:3
DTSTAMP:20260425T214036Z
URL:http://business.daniabeachchamber.org/events/details/holiday-networking-nyberg-swanson-12-08-2011-223
END:VEVENT

END:VCALENDAR
