BEGIN:VCALENDAR
VERSION:2.0
PRODID:-//ChamberMaster//Event Calendar 2.0//EN
METHOD:PUBLISH
X-PUBLISHED-TTL:P3D
REFRESH-INTERVAL:P3D
CALSCALE:GREGORIAN
BEGIN:VEVENT
DTSTART:20121206T223000Z
DTEND:20121207T000000Z
X-MICROSOFT-CDO-ALLDAYEVENT:FALSE
SUMMARY:Holiday Party After Hours
DESCRIPTION:Holiday Party \n\nAfter Hours\n\nYou're invited to an evening of laughter and good cheer at Dania Beach Chamber's Holiday Celebration! \n\nHosted by Crowne Plaza Fort Lauderdale.\n\n \n\nMerry everything\, happy always! Come celebrate the holidays with us! Eat\, drink and be merry!\n\n \n\nIn the spirit of giving during the holiday season\, we are inviting you to donate a new unwrapped toy to our Holiday Toy Drive.
X-ALT-DESC;FMTTYPE=text/html:<span style="color:#0000cd\;"><strong><span style="font-family: papyrus\;"><span style="font-size: 28pt\;">Holiday Party </span></span></strong><br />\n<span style="font-family: papyrus\;"><span style="font-size: 28pt\;">After Hours</span></span><br />\n<span style="font-family: century gothic\,sans-serif\;"><span style="font-size: 14pt\;">You&#39\;re invited to an evening of laughter and good cheer at Dania Beach Chamber&#39\;s Holiday Celebration! </span></span><br />\n<em><span style="font-family: century gothic\,sans-serif\;"><span style="font-size: 14pt\;">Hosted by Crowne Plaza Fort Lauderdale.</span></span></em><br />\n&nbsp\;<br />\n<span style="font-family: century gothic\,sans-serif\;"><span style="font-size: 14pt\;">Merry everything\, happy always! Come celebrate the holidays with us! Eat\, drink and be merry!</span></span><br />\n&nbsp\;<br />\n<strong><em><span style="font-family: century gothic\,sans-serif\;"><span style="font-size: 14pt\;">In the spirit of giving during the holiday season\, we are inviting you to donate a new unwrapped toy to our Holiday Toy Drive.</span></span></em></strong></span>
LOCATION:Crowne Plaza Fort Lauderdale 455 State Road 84 Fort Lauderdale\, FL 33316 FREE Parking\, just tell the Valet you are here for the Chamber Party!
UID:e.828.837
SEQUENCE:3
DTSTAMP:20260425T014448Z
URL:http://business.daniabeachchamber.org/events/details/holiday-party-after-hours-12-06-2012-837
END:VEVENT

END:VCALENDAR
