BEGIN:VCALENDAR
VERSION:2.0
PRODID:-//ChamberMaster//Event Calendar 2.0//EN
METHOD:PUBLISH
X-PUBLISHED-TTL:P3D
REFRESH-INTERVAL:P3D
CALSCALE:GREGORIAN
BEGIN:VEVENT
DTSTART:20140607T140000Z
DTEND:20140607T180000Z
X-MICROSOFT-CDO-ALLDAYEVENT:FALSE
SUMMARY:Hurricane PrepareAthon
DESCRIPTION:What can you do at a PrepareAthon ?\n\n \n\nShop for  Hurricane Preparedness Supplies   Learn about  Pre and Post Storm Services   Sign up for Emergency Updates   Join CERT   Attend Lectures   Meet Max Mayfield   Paint a Fire Truck   Support Local Business   Enter a FREE Drawing for Prizes\n\n\n\nwww.daniaready.com\n\n\n\nSchedule of Events \n\n     10: 30 11:50     American Red Cross\n\n     11:00 11:20      Max Mayfield\n\n     11:30 11:50      NOA\n\n     12:00-12:20         EOC\n\n     12:30-12:50         FPL\n\n     1:00                       BSO Demonstration
X-ALT-DESC;FMTTYPE=text/html:<span style="language:en-US\;"><span style="font-family:brush script mt\;"><span style="font-size:18.0pt\;">What can you do at a PrepareAthon ?</span></span></span><br />\n&nbsp\;<br />\n<span style="language:en-US\;"><span style="font-family:calibri\;"><span style="font-size:12.0pt\;">Shop for&nbsp\; Hurricane Preparedness Supplies </span></span><span style="color:#24ABA2\;"><span style="font-family:wingdings\;"><span style="font-size:12.0pt\;">&diams\;</span></span></span><span style="font-family:calibri\;"><span style="font-size:12.0pt\;"> Learn about&nbsp\; Pre and Post Storm Services </span></span><span style="color:#24ABA2\;"><span style="font-family:wingdings\;"><span style="font-size:12.0pt\;">&diams\;</span></span></span><span style="font-family:calibri\;"><span style="font-size:12.0pt\;"> Sign up for Emergency Updates </span></span><span style="color:#24ABA2\;"><span style="font-family:wingdings\;"><span style="font-size:12.0pt\;">&diams\;</span></span></span></span> <span style="language:en-US\;"><span style="font-family:calibri\;"><span style="font-size:12.0pt\;">Join CERT </span></span><span style="color:#24ABA2\;"><span style="font-family:wingdings\;"><span style="font-size:12.0pt\;">&diams\;</span></span></span><span style="font-family:calibri\;"><span style="font-size:12.0pt\;"> Attend Lectures </span></span><span style="color:#24ABA2\;"><span style="font-family:wingdings\;"><span style="font-size:12.0pt\;">&diams\;</span></span></span><span style="font-family:calibri\;"><span style="font-size:12.0pt\;"> Meet Max Mayfield </span></span><span style="color:#24ABA2\;"><span style="font-family:wingdings\;"><span style="font-size:12.0pt\;">&diams\;</span></span></span></span> <span style="language:en-US\;"><span style="font-family:calibri\;"><span style="font-size:12.0pt\;">Paint a Fire Truck </span></span><span style="color:#24ABA2\;"><span style="font-family:wingdings\;"><span style="font-size:12.0pt\;">&diams\;</span></span></span></span> <span style="language:en-US\;"><span style="font-family:calibri\;"><span style="font-size:12.0pt\;">Support Local Business </span></span><span style="color:#24ABA2\;"><span style="font-family:wingdings\;"><span style="font-size:12.0pt\;">&diams\;</span></span></span></span> <span style="language:en-US\;"><span style="font-family:calibri\;"><span style="font-size:12.0pt\;">Enter a </span></span></span><span style="font-weight:bold\;language:en-US\;"><span style="font-family:calibri\;"><span style="font-size:12.0pt\;">FREE</span></span></span><span style="language:en-US\;"><span style="font-family:calibri\;"><span style="font-size:12.0pt\;"> Drawing for Prizes</span></span></span><br />\n<br />\n<strong><span style="color:#008080\;"><span style="font-size: 20px\;">www.daniaready.com</span></span></strong><br />\n<br />\n<span style="color:#008080\;"><span style="text-decoration: underline\; font-weight: bold\;"><span style="font-family: calibri\;"><span style="font-size: 16pt\;">Schedule of Events </span></span></span></span><br />\n<span style="font-weight:bold\;language:en-US\;"><span style="font-family:calibri\;">&nbsp\;&nbsp\;&nbsp\;&nbsp\; 10: 30&mdash\;11:50&nbsp\;&nbsp\; &nbsp\; American Red Cross</span></span><br />\n<span style="font-weight:bold\;language:en-US\;"><span style="font-family:calibri\;">&nbsp\;&nbsp\;&nbsp\;&nbsp\; 11:00&mdash\;11:20&nbsp\;&nbsp\;&nbsp\; &nbsp\; Max Mayfield</span></span><br />\n<span style="font-weight:bold\;language:en-US\;"><span style="font-family:calibri\;">&nbsp\;&nbsp\;&nbsp\;&nbsp\; 11:30&mdash\;11:50&nbsp\;&nbsp\;&nbsp\; &nbsp\; NOA</span></span><br />\n<span style="font-weight:bold\;language:en-US\;"><span style="font-family:calibri\;">&nbsp\;&nbsp\;&nbsp\;&nbsp\; 12:00-12:20&nbsp\;&nbsp\;&nbsp\;&nbsp\;&nbsp\;&nbsp\; &nbsp\; EOC</span></span><br />\n<span style="font-weight:bold\;language:en-US\;"><span style="font-family:calibri\;">&nbsp\;&nbsp\;&nbsp\;&nbsp\; 12:30-12:50&nbsp\;&nbsp\;&nbsp\;&nbsp\;&nbsp\;&nbsp\; &nbsp\; FPL</span></span><br />\n<span style="font-weight:bold\;language:en-US\;"><span style="font-family:calibri\;">&nbsp\;&nbsp\;&nbsp\;&nbsp\; 1:00&nbsp\;&nbsp\;&nbsp\; &nbsp\;&nbsp\;&nbsp\;&nbsp\;&nbsp\;&nbsp\;&nbsp\;&nbsp\;&nbsp\;&nbsp\;&nbsp\;&nbsp\;&nbsp\;&nbsp\;&nbsp\;&nbsp\; &nbsp\; BSO Demonstration&nbsp\;&nbsp\;&nbsp\;&nbsp\;&nbsp\;&nbsp\;&nbsp\;&nbsp\;&nbsp\; </span></span><br />\n&nbsp\;<br />\n&nbsp\;
LOCATION:Dania Beach City Hall 100 W Dania Beach Blvd. Dania Beach\, FL 33004
UID:e.828.1000
SEQUENCE:3
DTSTAMP:20260423T205512Z
URL:http://business.daniabeachchamber.org/events/details/hurricane-prepareathon-06-07-2014-1000
END:VEVENT

END:VCALENDAR
