BEGIN:VCALENDAR
VERSION:2.0
PRODID:-//ChamberMaster//Event Calendar 2.0//EN
METHOD:PUBLISH
X-PUBLISHED-TTL:P3D
REFRESH-INTERVAL:P3D
CALSCALE:GREGORIAN
BEGIN:VEVENT
DTSTART:20130912T223000Z
DTEND:20130913T003000Z
X-MICROSOFT-CDO-ALLDAYEVENT:FALSE
SUMMARY:"Is Your Business Ready to Grow ?" | Southeast Quadrant Meeting
DESCRIPTION:"Is Your Business Ready to Grow?"\n\n\n\nAlliance Countywide Business Forum\n\nSoutheast Quadrant Meeting\n\n\n\nHosted by:\n\nCity of Dania Beach\n\n\n\nAGENDA\n\nRegistration/Networking\n\n\n\nWelcome by City of Dania Beach:\n\nDan Murphy\,\n\nEconomic Development Manager\n\n\n\nModerator   Greater Fort Lauderdale Alliance:\n\nTodd Holt\,\n\nDirector of Business Development                \n\n\n\nSpeakers: \n\n"Using Social Media as a Marketing Tool"         \n\nTerra Spero\, RealTime Marketing\n\n                    \n\n"Healthcare Reform:  How It Stands Today"    \n\n Neal Murray\, Frank H. Furman\, Inc.        \n\n                      \n\n"Workforce Resources for Training and Employment"\n\nJack Bennings\, WorkForce One\n\n                     \n\n"How to Do Business with Broward County"                     \n\nJasmine Jones\, Community Relations & Outreach Manager
X-ALT-DESC;FMTTYPE=text/html:<span style="font-family:verdana\;"><strong><span style="color:#000080\;"><span style="font-size: 14pt\;">&ldquo\;Is Your Business Ready to Grow?&rdquo\;</span></span><br />\n<br />\n<span style="color:#000080\;"><span style="font-size: 14px\;">Alliance Countywide Business Forum<br />\nSoutheast Quadrant Meeting</span></span></strong><br />\n<br />\n<span style="color:#000080\;"><span style="font-size: 16px\;"><strong><u>Hosted by</u></strong>:<br />\n<strong>City of Dania Beach</strong></span></span><br />\n<br />\n<strong><u><span style="font-size:16px\;"><span style="color: rgb(0\, 0\, 128)\;">AGENDA</span></span></u><br />\n<span style="font-size:14px\;"><span style="color: rgb(0\, 0\, 128)\;">Registration/Networking</span></span></strong><br />\n<br />\n<span style="font-size:14px\;"><span style="color: rgb(0\, 0\, 128)\;"><strong>Welcome by City of Dania Beach:<br />\nDan Murphy\,<br />\nEconomic Development Manager</strong><br />\n<br />\n<strong>Moderator &ndash\; Greater Fort Lauderdale Alliance:<br />\nTodd Holt\,<br />\nDirector of Business Development&nbsp\;&nbsp\;&nbsp\;&nbsp\;&nbsp\;&nbsp\;&nbsp\;&nbsp\;&nbsp\;&nbsp\;&nbsp\;&nbsp\;&nbsp\;&nbsp\;&nbsp\; </strong><br />\n<br />\n<strong><u>Speakers:</u>&nbsp\;<br />\n&ldquo\;Using Social Media as a Marketing Tool&rdquo\;&nbsp\;&nbsp\;&nbsp\;&nbsp\; &nbsp\;&nbsp\;&nbsp\;&nbsp\;<br />\nTerra Spero\, RealTime Marketing</strong><br />\n<strong>&nbsp\;&nbsp\;&nbsp\;&nbsp\;&nbsp\;&nbsp\;&nbsp\;&nbsp\;&nbsp\;&nbsp\;&nbsp\;&nbsp\;&nbsp\;&nbsp\; &nbsp\;&nbsp\;&nbsp\;&nbsp\;&nbsp\;<br />\n&ldquo\;Healthcare Reform:&nbsp\; <em>How It Stands Today&rdquo\;</em>&nbsp\; &nbsp\;&nbsp\;<br />\n&nbsp\;Neal Murray\, Frank H. Furman\, Inc.&nbsp\;&nbsp\;&nbsp\;&nbsp\;&nbsp\;&nbsp\;&nbsp\; </strong><br />\n<strong>&nbsp\;&nbsp\;&nbsp\;&nbsp\;&nbsp\;&nbsp\;&nbsp\;&nbsp\;&nbsp\;&nbsp\;&nbsp\;&nbsp\;&nbsp\;&nbsp\;&nbsp\; &nbsp\;&nbsp\;&nbsp\;&nbsp\; &nbsp\;<br />\n&ldquo\;Workforce Resources for Training and Employment&rdquo\;<br />\nJack Bennings\, WorkForce One</strong><br />\n<strong>&nbsp\;&nbsp\;&nbsp\;&nbsp\;&nbsp\;&nbsp\;&nbsp\;&nbsp\;&nbsp\;&nbsp\;&nbsp\;&nbsp\;&nbsp\;&nbsp\;&nbsp\; &nbsp\;&nbsp\;&nbsp\;&nbsp\;&nbsp\;<br />\n&ldquo\;How to Do Business with Broward County&quot\;&nbsp\;&nbsp\;&nbsp\;&nbsp\;&nbsp\;&nbsp\;&nbsp\;&nbsp\;&nbsp\; &nbsp\;&nbsp\;&nbsp\;&nbsp\;&nbsp\;&nbsp\;&nbsp\;&nbsp\;&nbsp\;&nbsp\;&nbsp\;<br />\nJasmine Jones\, Community Relations &amp\; </strong></span></span></span><span style="font-family:verdana\;"><span style="font-size:14px\;"><span style="color: rgb(0\, 0\, 128)\;"><strong>Outreach Manager</strong></span></span></span><span style="font-family:verdana\;"><span style="font-size:14px\;"><span style="color: rgb(0\, 0\, 128)\;"><strong>&nbsp\;&nbsp\;&nbsp\;&nbsp\;&nbsp\;&nbsp\;&nbsp\;&nbsp\;&nbsp\;&nbsp\;&nbsp\;&nbsp\;&nbsp\;&nbsp\;&nbsp\;&nbsp\;&nbsp\;&nbsp\;&nbsp\;&nbsp\;&nbsp\;&nbsp\;&nbsp\;&nbsp\;&nbsp\;&nbsp\;&nbsp\;&nbsp\;&nbsp\;&nbsp\;&nbsp\;&nbsp\;&nbsp\;&nbsp\;&nbsp\;&nbsp\;&nbsp\;&nbsp\;&nbsp\;&nbsp\;&nbsp\;&nbsp\;&nbsp\;&nbsp\;&nbsp\;&nbsp\;&nbsp\;&nbsp\;&nbsp\;&nbsp\;&nbsp\;&nbsp\;&nbsp\;&nbsp\;&nbsp\;&nbsp\;&nbsp\;&nbsp\;&nbsp\;&nbsp\;&nbsp\;&nbsp\;&nbsp\;&nbsp\;&nbsp\;&nbsp\;&nbsp\;&nbsp\;&nbsp\;&nbsp\;&nbsp\;&nbsp\;&nbsp\;&nbsp\;&nbsp\;&nbsp\;&nbsp\;&nbsp\;&nbsp\;&nbsp\;&nbsp\;&nbsp\;&nbsp\;&nbsp\;&nbsp\; </strong></span></span></span>
LOCATION:I.T. Parker Community Center 901 N.E. 3rd Street Dania Beach\, FL 33004
UID:e.828.899
SEQUENCE:3
DTSTAMP:20260424T113239Z
URL:http://business.daniabeachchamber.org/events/details/is-your-business-ready-to-grow-southeast-quadrant-meeting-09-12-2013-899
END:VEVENT

END:VCALENDAR
