BEGIN:VCALENDAR
VERSION:2.0
PRODID:-//ChamberMaster//Event Calendar 2.0//EN
METHOD:PUBLISH
X-PUBLISHED-TTL:P3D
REFRESH-INTERVAL:P3D
CALSCALE:GREGORIAN
BEGIN:VEVENT
DTSTART:20140819T220000Z
DTEND:20140820T010000Z
X-MICROSOFT-CDO-ALLDAYEVENT:FALSE
SUMMARY:Jumbo Networker & Talent Showdonwn @Hard Rock Bayside
DESCRIPTION:Join the\n\nGreater Dania Beach Chamber of Commerce\n\nalong with members of:\n\nAventura Marketing Council\n\nDowntown Miami & Brickell Chamber\n\nGreater Miami Convention and Visitors Bureau\n\nGreater North Miami Beach Chamber\n\nMiami Beach Chamber\n\nMiami-Dade Chamber\n\nMiami Dade Gay & Lesbian Chamber \n\n\n\nfor a Jumbo Networker\n\nat Hard Rock Cafe Bayside\n\nTues. Aug. 19 @ 6 p.m.\n\n\n\nRSVP to: rshane@daniabeachchamber.org
X-ALT-DESC;FMTTYPE=text/html:<span style="font-size:16px\;"><span style="font-family: verdana\;"><span style="color: black\;">Join the<br />\nGreater Dania Beach Chamber of Commerce<br />\nalong with members of:</span><br />\n<em><span style="color: black\;">Aventura Marketing Council</span></em><br />\n<span style="color: black\;"><em>Downtown Miami &amp\; Brickell Chamber</em><br />\n<em>Greater Miami Convention and Visitors Bureau</em><br />\n<em>Greater North Miami Beach Chamber</em></span><br />\n<em><span style="color: black\;">Miami Beach Chamber</span></em><br />\n<em><span style="color: black\;">Miami-Dade Chamber</span></em><br />\n<em><span style="color: black\;">Miami Dade Gay &amp\; Lesbian Chamber </span></em></span></span><br />\n<br />\n<span style="font-size:16px\;"><span style="font-family: verdana\;">for a Jumbo Networker<br />\nat Hard Rock Cafe Bayside<br />\nTues. Aug. 19 @ 6 p.m.</span></span><br />\n<br />\n<span style="font-size:16px\;"><span style="font-family: verdana\;">RSVP to</span></span>: <span style="font-size:14px\;"><span style="font-family: verdana\;"><a href="mailto:rshane@daniabeachchamber.org">rshane@daniabeachchamber.org</a></span></span><br />\n&nbsp\;
LOCATION:Hard Rock Bayside 401 S. Biscayne Blvd Miami\, FL 33132
UID:e.828.1016
SEQUENCE:3
DTSTAMP:20260423T174805Z
URL:http://business.daniabeachchamber.org/events/details/jumbo-networker-talent-showdonwn-hard-rock-bayside-08-19-2014-1016
END:VEVENT

END:VCALENDAR
