BEGIN:VCALENDAR
VERSION:2.0
PRODID:-//ChamberMaster//Event Calendar 2.0//EN
METHOD:PUBLISH
X-PUBLISHED-TTL:P3D
REFRESH-INTERVAL:P3D
CALSCALE:GREGORIAN
BEGIN:VEVENT
DTSTART:20160923T230000Z
DTEND:20160924T000000Z
X-MICROSOFT-CDO-ALLDAYEVENT:FALSE
SUMMARY:KIckball at Forst Park --- Adult Coed 18-70 ages
DESCRIPTION:7pm to 8pm --- Open to all Welcome to come give it a try !\n\n8pm to 9pm --- League Member games. \n\n\n\nADULT COED KICKBALL\n\nKickball is all about the FUN!  Similar to baseball\, this playground favorite is played with traditional baseball rules and a few extra quirky rules mixed in to promote the fun. Instead of a bat and ball\, you kick\, catch\, throw and dodge an 8" playground ball\, meaning that anyone can join in and have a great time\, regardless of ability or experience! Our kickball activities give everyone the opportunity to play 8 scheduled games and they are sure to enjoy this more laid back\, social approach to adult activities!
X-ALT-DESC;FMTTYPE=text/html:<h1><span style="font-size:12px"><strong>7pm to 8pm --- Open to all Welcome to come give it a try !<br />\n8pm to 9pm --- League Member games.&nbsp\;<br />\n<br />\nADULT COED KICKBALL</strong></span></h1>\n\n<p><span style="font-size:12px">Kickball is all about the FUN!&nbsp\; Similar to baseball\, this playground favorite is played with traditional baseball rules and a few extra quirky rules mixed in to promote the fun. Instead of a bat and ball\, you kick\, catch\, throw and dodge an 8&quot\; playground ball\, meaning that anyone can join in and have a great time\, regardless of ability or experience! Our kickball activities give everyone the opportunity to play 8 scheduled games and they are sure to enjoy this more laid back\, social approach to adult activities!</span></p>\n
LOCATION:Frost Park 300 NE 2nd St Dania Beach\, FL 33004
UID:e.828.1116
SEQUENCE:3
DTSTAMP:20260419T232221Z
URL:http://business.daniabeachchamber.org/events/details/kickball-at-forst-park-adult-coed-18-70-ages-1116
END:VEVENT

END:VCALENDAR
