BEGIN:VCALENDAR
VERSION:2.0
PRODID:-//ChamberMaster//Event Calendar 2.0//EN
METHOD:PUBLISH
X-PUBLISHED-TTL:P3D
REFRESH-INTERVAL:P3D
CALSCALE:GREGORIAN
BEGIN:VEVENT
DTSTART:20111116T164500Z
DTEND:20111116T180000Z
X-MICROSOFT-CDO-ALLDAYEVENT:FALSE
SUMMARY:Leads 4 Lunch - ANTONIO'S ITALIAN
DESCRIPTION:Leads 4 Lunch is a referral group intended to be an additional resource for the Greater Dania Beach Chamber of Commerce members. The Leads 4 Lunch goal is to organize a professional referral group\, get to know each member and their product or service and support each other with referrals.
X-ALT-DESC;FMTTYPE=text/html:<span style="font-family: arial\, sans-serif"><span style="font-size: medium"><strong>Leads 4 Lunch </strong></span></span><span style="font-size: 10pt"><span style="font-family: arial\, sans-serif">is a referral group&nbsp\;intended to be an additional resource for the Greater Dania Beach Chamber of Commerce members.&nbsp\;The <strong>Leads 4 Lunch</strong> goal is to organize a professional referral group\, get to know each member and their product or service and support each other with referrals.&nbsp\;</span></span><br />\n
LOCATION:ANTONIO'S ITALIAN RESTAURANT 619 E DANIA BEACH BLVD
UID:e.828.228
SEQUENCE:3
DTSTAMP:20260425T234441Z
URL:http://business.daniabeachchamber.org/events/details/leads-4-lunch-antonio-s-italian-11-16-2011-228
END:VEVENT

END:VCALENDAR
