BEGIN:VCALENDAR
VERSION:2.0
PRODID:-//ChamberMaster//Event Calendar 2.0//EN
METHOD:PUBLISH
X-PUBLISHED-TTL:P3D
REFRESH-INTERVAL:P3D
CALSCALE:GREGORIAN
BEGIN:VEVENT
DTSTART:20120502T154500Z
DTEND:20120502T170000Z
X-MICROSOFT-CDO-ALLDAYEVENT:FALSE
SUMMARY:LEADS 4 LUNCH Antonio's Pizza and Italian
DESCRIPTION:Leads 4 Lunch is a referral group intended to be an additional resource for the Greater Dania Beach Chamber of Commerce members.  Leads 4 Lunch's goal is to organize a professional referral group\, get to know each member and their product or service and support each other with referrals. \n\nPlease RSVP.
X-ALT-DESC;FMTTYPE=text/html:<span style="font-family: arial\, sans-serif"><span style="font-size: medium"><strong>Leads 4 Lunch </strong></span></span><span style="font-size: 10pt"><span style="font-family: arial\, sans-serif">is a referral group&nbsp\;intended to be an additional resource for the Greater Dania Beach Chamber of Commerce members.&nbsp\; <strong>Leads 4 Lunch</strong>&rsquo\;s goal is to organize a professional referral group\, get to know each member and their product or service and support each other with referrals.&nbsp\;</span></span><br />\nPlease RSVP.
LOCATION:Antonio's Pizza & Italian 619 E Dania Beach Blvd
UID:e.828.268
SEQUENCE:3
DTSTAMP:20260425T130841Z
URL:http://business.daniabeachchamber.org/events/details/leads-4-lunch-antonio-s-pizza-and-italian-05-02-2012-268
END:VEVENT

END:VCALENDAR
