BEGIN:VCALENDAR
VERSION:2.0
PRODID:-//ChamberMaster//Event Calendar 2.0//EN
METHOD:PUBLISH
X-PUBLISHED-TTL:P3D
REFRESH-INTERVAL:P3D
CALSCALE:GREGORIAN
BEGIN:VEVENT
DTSTART:20110921T154500Z
DTEND:20110921T170000Z
X-MICROSOFT-CDO-ALLDAYEVENT:FALSE
SUMMARY:LEADS 4 LUNCH + Dockers 9-21-11
DESCRIPTION:Leads 4 Lunch is a referral group intended to be an additional resource for the Dania Beach Chamber members. The Leads 4 Lunch goal is to organize a professional referral group\, get to know each member and their product or service and support each other with referrals. \n\nPlease RSVP
X-ALT-DESC;FMTTYPE=text/html:<span style="font-family: arial\, sans-serif"><span style="font-size: medium"><strong>Leads 4 Lunch </strong></span></span><span style="font-size: 10pt"><span style="font-family: arial\, sans-serif">is a referral group&nbsp\;intended to be an additional resource for the&nbsp\;Dania Beach Chamber&nbsp\;members.&nbsp\;The <strong>Leads 4 Lunch</strong> goal is to organize a professional referral group\, get to know each member and their product or service and support each other with referrals.&nbsp\;</span></span><br />\nPlease RSVP
LOCATION:DOCKER'S BAR & CAFE 318 N Federal Hwy near Old Griffin Rd Reservations a must Don't be left out
UID:e.828.220
SEQUENCE:3
DTSTAMP:20260426T022651Z
URL:http://business.daniabeachchamber.org/events/details/leads-4-lunch-dockers-9-21-11-09-21-2011-220
END:VEVENT

END:VCALENDAR
