BEGIN:VCALENDAR
VERSION:2.0
PRODID:-//ChamberMaster//Event Calendar 2.0//EN
METHOD:PUBLISH
X-PUBLISHED-TTL:P3D
REFRESH-INTERVAL:P3D
CALSCALE:GREGORIAN
BEGIN:VEVENT
DTSTART:20120215T164500Z
DTEND:20120215T180000Z
X-MICROSOFT-CDO-ALLDAYEVENT:FALSE
SUMMARY:LEADS 4 LUNCH @ DON & VINNY'S
DESCRIPTION:Created to be an additional resource for Chamber members to developing excellent lead sources in addition to sharing marketing and sales ideas. If you have considered joining the Dania Beach Chamber\, come say hello and meet with the friendliest Chamber in Broward!
X-ALT-DESC;FMTTYPE=text/html:<p>\n	&nbsp\;<strong><span style="font-family: arial"><span style="font-size: 14px">Created to be an additional resource for Chamber members to developing excellent lead sources in addition to sharing marketing and sales ideas. If you have considered joining the Dania Beach Chamber\, come say hello and meet with the friendliest Chamber in Broward!</span></span></strong><br />\n	&nbsp\;</p>\n
LOCATION:Don & Vinny's Italian Restaurant 419 E Sheridan Street Dania Beach 33004
UID:e.828.251
SEQUENCE:3
DTSTAMP:20260425T181752Z
URL:http://business.daniabeachchamber.org/events/details/leads-4-lunch-don-vinny-s-02-15-2012-251
END:VEVENT

END:VCALENDAR
