BEGIN:VCALENDAR
VERSION:2.0
PRODID:-//ChamberMaster//Event Calendar 2.0//EN
METHOD:PUBLISH
X-PUBLISHED-TTL:P3D
REFRESH-INTERVAL:P3D
CALSCALE:GREGORIAN
BEGIN:VEVENT
DTSTART:20111207T164500Z
DTEND:20111207T180000Z
X-MICROSOFT-CDO-ALLDAYEVENT:FALSE
SUMMARY:LEADS 4 LUNCH @ DON & VINNY'S
DESCRIPTION:Created to be an additional resource for Chamber members to developing excellent lead sources in addition to sharing marketing and sales ideas. If you have considered joining the Dania Beach Chamber\, come say hello and meet with the friendliest Chamber in Broward!
X-ALT-DESC;FMTTYPE=text/html:<p>\n	&nbsp\;<strong><span style="font-family: arial"><span style="font-size: 14px">Created to be an additional resource for Chamber members to developing excellent lead sources in addition to sharing marketing and sales ideas. If you have considered joining the Dania Beach Chamber\, come say hello and meet with the friendliest Chamber in Broward!</span></span></strong><br />\n	&nbsp\;</p>\n
LOCATION:Don & Vinny's Restaurant 419 E Sheridan Street Dania Beach 33004
UID:e.828.227
SEQUENCE:3
DTSTAMP:20260425T214037Z
URL:http://business.daniabeachchamber.org/events/details/leads-4-lunch-don-vinny-s-12-07-2011-227
END:VEVENT

END:VCALENDAR
