BEGIN:VCALENDAR
VERSION:2.0
PRODID:-//ChamberMaster//Event Calendar 2.0//EN
METHOD:PUBLISH
X-PUBLISHED-TTL:P3D
REFRESH-INTERVAL:P3D
CALSCALE:GREGORIAN
BEGIN:VEVENT
DTSTART:20110907T154500Z
DTEND:20110907T170000Z
X-MICROSOFT-CDO-ALLDAYEVENT:FALSE
SUMMARY:LEADS 4 LUNCH + Don & Vinny's 9-7-11
DESCRIPTION:Leads 4 Lunch is a referral group intended to be an additional resource for the Greater Dania Beach Chamber of Commerce members. The Leads 4 Lunch goal is to organize a professional referral group\, get to know each member and their product or service and support each other with referrals. \n\nPlease RSVP
X-ALT-DESC;FMTTYPE=text/html:<span style="font-family: arial\, sans-serif"><span style="font-size: medium"><strong>Leads 4 Lunch </strong></span></span><span style="font-size: 10pt"><span style="font-family: arial\, sans-serif">is a referral group&nbsp\;intended to be an additional resource for the Greater Dania Beach Chamber of Commerce members.&nbsp\;The <strong>Leads 4 Lunch</strong> goal is to organize a professional referral group\, get to know each member and their product or service and support each other with referrals.&nbsp\;</span></span><br />\nPlease RSVP
LOCATION:DON & VINNY'S ITALIAN RESTAURANT 419 E SheridanSt @ 5th Ave Reservations a must Don't be left out
UID:e.828.219
SEQUENCE:3
DTSTAMP:20260426T022717Z
URL:http://business.daniabeachchamber.org/events/details/leads-4-lunch-don-vinny-s-9-7-11-09-07-2011-219
END:VEVENT

END:VCALENDAR
