BEGIN:VCALENDAR
VERSION:2.0
PRODID:-//ChamberMaster//Event Calendar 2.0//EN
METHOD:PUBLISH
X-PUBLISHED-TTL:P3D
REFRESH-INTERVAL:P3D
CALSCALE:GREGORIAN
BEGIN:VEVENT
DTSTART:20111019T154500Z
DTEND:20111019T170000Z
X-MICROSOFT-CDO-ALLDAYEVENT:FALSE
SUMMARY:Leads 4 Lunch @ JIMBO'S SANDBAR
DESCRIPTION:Leads 4 Lunch is a referral group intended to be an additional resource for the Greater Dania Beach Chamber of Commerce members. The Leads 4 Lunch goal is to organize a professional referral group\, get to know each member and their product or service and support each other with referrals.
X-ALT-DESC;FMTTYPE=text/html:<span style="font-family: arial\, sans-serif"><span style="font-size: medium"><strong>Leads 4 Lunch </strong></span></span><span style="font-size: 10pt"><span style="font-family: arial\, sans-serif">is a referral group&nbsp\;intended to be an additional resource for the Greater Dania Beach Chamber of Commerce members.&nbsp\;The <strong>Leads 4 Lunch</strong> goal is to organize a professional referral group\, get to know each member and their product or service and support each other with referrals.&nbsp\;</span></span><br />\n
LOCATION:JIMBO'S SANDBAR 6200 N OCEAN DR @ E DANIA BEACH BLVD ON THE INTRACOASTAL
UID:e.828.226
SEQUENCE:3
DTSTAMP:20260426T010000Z
URL:http://business.daniabeachchamber.org/events/details/leads-4-lunch-jimbo-s-sandbar-10-19-2011-226
END:VEVENT

END:VCALENDAR
