BEGIN:VCALENDAR
VERSION:2.0
PRODID:-//ChamberMaster//Event Calendar 2.0//EN
METHOD:PUBLISH
X-PUBLISHED-TTL:P3D
REFRESH-INTERVAL:P3D
CALSCALE:GREGORIAN
BEGIN:VEVENT
DTSTART:20110817T154500Z
DTEND:20110817T170000Z
X-MICROSOFT-CDO-ALLDAYEVENT:FALSE
SUMMARY:LEADS 4 LUNCH Tuscany
DESCRIPTION:Leads 4 Lunch is a referral group intended to be an additional resource for the Greater Dania Beach Chamber of Commerce members. The Leads 4 Lunch goal is to organize a professional referral group\, get to know each member and their product or service and support each other with referrals. \n\nPlease RSVP
X-ALT-DESC;FMTTYPE=text/html:<span style="font-family: arial\, sans-serif"><span style="font-size: medium"><strong>Leads 4 Lunch </strong></span></span><span style="font-size: 10pt"><span style="font-family: arial\, sans-serif">is a referral group&nbsp\;intended to be an additional resource for the Greater Dania Beach Chamber of Commerce members.&nbsp\;The <strong>Leads 4 Lunch</strong> goal is to organize a professional referral group\, get to know each member and their product or service and support each other with referrals.&nbsp\;</span></span><br />\nPlease RSVP
LOCATION:Tuscany Caffe 6 NW 1 Ave - Downtown There are 30 seats available Reservations a must Don't be left out
UID:e.828.213
SEQUENCE:3
DTSTAMP:20260426T035829Z
URL:http://business.daniabeachchamber.org/events/details/leads-4-lunch-tuscany-08-17-2011-213
END:VEVENT

END:VCALENDAR
