BEGIN:VCALENDAR
VERSION:2.0
PRODID:-//ChamberMaster//Event Calendar 2.0//EN
METHOD:PUBLISH
X-PUBLISHED-TTL:P3D
REFRESH-INTERVAL:P3D
CALSCALE:GREGORIAN
BEGIN:VEVENT
DTSTART:20130618T223000Z
DTEND:20130619T022500Z
X-MICROSOFT-CDO-ALLDAYEVENT:FALSE
SUMMARY:LES Casino Night Fundraiser
DESCRIPTION:LES will host its 2nd Annual Casino Night Fundraiser featuring poker\, blackjack\, roulettes\, craps\, food\, drinks and prizes.  The fundraiser will help improve the overall well-being of low income residents that are participating in the LES Job Training program and serve as a mentor to their children.\n\n\n\nLES is a non profit 501 c 3 organization and all contributions and gifts are tax deductible.  Sponsorship opportunities are available and we also ask you to consider providing items to be raffle during the event.
X-ALT-DESC;FMTTYPE=text/html:LES will host its 2nd Annual Casino Night Fundraiser featuring poker\, blackjack\, roulettes\, craps\, food\, drinks and prizes.&nbsp\; The fundraiser will help improve the overall well-being of low income residents that are participating in the LES Job Training program and serve as a mentor to their children.<br />\n<br />\nLES is&nbsp\;a non profit 501 c 3 organization and all contributions and gifts are tax deductible.&nbsp\; Sponsorship opportunities are available and we also ask you to consider providing items to be raffle during the event.<br />\n<br />\n
LOCATION:VFW Post 8195 4414 Pembroke Road Hollywood\, Florida
UID:e.828.886
SEQUENCE:3
DTSTAMP:20260424T155846Z
URL:http://business.daniabeachchamber.org/events/details/les-casino-night-fundraiser-06-18-2013-886
END:VEVENT

END:VCALENDAR
