BEGIN:VCALENDAR
VERSION:2.0
PRODID:-//ChamberMaster//Event Calendar 2.0//EN
METHOD:PUBLISH
X-PUBLISHED-TTL:P3D
REFRESH-INTERVAL:P3D
CALSCALE:GREGORIAN
BEGIN:VEVENT
DTSTART:20120210T164500Z
DTEND:20120210T180000Z
X-MICROSOFT-CDO-ALLDAYEVENT:FALSE
SUMMARY:LUNCH + LEARN
DESCRIPTION:Richard E. Dodge\, Ph.D.\, dean of NSU's Oceanographic Center and executive director of NSU's National Coral Reef Institute\, will be the featured speaker at the Dania Beach Chamber's LUNCH + LEARN on February 10th talking about the Oceanographic Center.\n\n\n\nDodge received a B.A. degree from University of Maine in 1969 and an M.Phil. and Ph.D. in geology and geophysics from Yale University in 1973 and 1978.\n\n\n\nHe is a recognized authority on corals and coral reef ecosystems. He has conducted research in Haiti\, Saudi Arabia\, Puerto Rico\, Barbados\, Turks and Caicos\, Jamaica\, Virgin Islands\, Bahamas\, Dominican Republic\, Panama\, Cayman Islands\, Bermuda\, Cape Verde Islands\, Sao Tome and Principe (Gulf of Guinea)\, Mexico\, and Florida.
X-ALT-DESC;FMTTYPE=text/html:&nbsp\;<strong>Richard E. Dodge\, Ph.D.</strong>\, dean of NSU&rsquo\;s Oceanographic Center and executive director of NSU&rsquo\;s National Coral Reef Institute\, will be the featured speaker at the Dania Beach Chamber&rsquo\;s LUNCH + LEARN on February 10<sup>th</sup> talking about the Oceanographic Center.<br />\n<br />\nDodge received a B.A. degree from University of Maine in 1969 and an M.Phil. and Ph.D. in geology and geophysics from Yale University in 1973 and 1978.<br />\n<br />\nHe is a recognized authority on corals and coral reef ecosystems. He has conducted research in Haiti\, Saudi Arabia\, Puerto Rico\, Barbados\, Turks and Caicos\, Jamaica\, Virgin Islands\, Bahamas\, Dominican Republic\, Panama\, Cayman Islands\, Bermuda\, Cape Verde Islands\, Sao Tome and Principe (Gulf of Guinea)\, Mexico\, and Florida.&nbsp\;&nbsp\;<br />\n
LOCATION:8000 North Ocean Drive Dania Beach FL Go EAST on Dania Beach Boulevard at US-1\, go over Intracoastal Waterway bridge. Bear right\, second turnoff\, into John U. Lloyd State Park. Proceed 2.5 miles into park. Center's entrance on left\, just past U.S. Coast Guard at 8000 North Ocean Drive.
UID:e.828.256
SEQUENCE:3
DTSTAMP:20260425T181600Z
URL:http://business.daniabeachchamber.org/events/details/lunch-learn-02-10-2012-256
END:VEVENT

END:VCALENDAR
