BEGIN:VCALENDAR
VERSION:2.0
PRODID:-//ChamberMaster//Event Calendar 2.0//EN
METHOD:PUBLISH
X-PUBLISHED-TTL:P3D
REFRESH-INTERVAL:P3D
CALSCALE:GREGORIAN
BEGIN:VEVENT
DTSTART:20120518T154500Z
DTEND:20120518T170000Z
X-MICROSOFT-CDO-ALLDAYEVENT:FALSE
SUMMARY:LUNCH + LEARN| Elizabeth Wentworth-Cultivating the Arts for Economic Development
DESCRIPTION:LUNCH + LEARN | quarterly luncheon series featuring existing\, emerging or desired businesses in our city\n\n \n\nSpeaker Elizabeth Wentworth\, Wentworth Creative Management has been hired as a consultant to the Dania Beach CRA to initiate a CREATIVE ARTS COUNCIL for the city.\n\n\n\nWentworth has served with the Broward Alliance as Film Commissioner before forming her consulting firm. Under her leadership on the Creative Industries and Film Commission\,she developed initiatives to attract film and television projects and engaged municipal government\, businesses and the community.\n\n\n\nHer expertise in creative economy initiatives along with her ability to develop strategies and partnerships secured her role in the formation of the Creative Arts Council.
X-ALT-DESC;FMTTYPE=text/html:&nbsp\;<strong><span style="font-size: 14px"><span style="font-family: arial">LUNCH + LEARN</span></span></strong> | quarterly&nbsp\;<span style="font-size: 9pt">luncheon series featuring existing\, emerging or desired businesses in our city</span><br />\n&nbsp\;<br />\nSpeaker <strong>Elizabeth Wentworth</strong>\, Wentworth Creative Management has been hired as a consultant to the Dania Beach CRA to initiate a CREATIVE ARTS COUNCIL for the city.<br />\n<br />\nWentworth has served with the Broward Alliance as Film Commissioner before forming her consulting firm. Under her leadership on the Creative Industries and Film Commission\,she developed initiatives to attract film and television projects and engaged municipal government\, businesses and the community.<br />\n<br />\nHer expertise in creative economy initiatives along with her ability to develop strategies and partnerships secured her role in the formation&nbsp\;of the Creative Arts Council.
LOCATION:D.C.O.T.A. Design Center of the Americas 1855 Griffin Road Dania Beach
UID:e.828.274
SEQUENCE:3
DTSTAMP:20260425T130842Z
URL:http://business.daniabeachchamber.org/events/details/lunch-learn-elizabeth-wentworth-cultivating-the-arts-for-economic-development-05-18-2012-274
END:VEVENT

END:VCALENDAR
