BEGIN:VCALENDAR
VERSION:2.0
PRODID:-//ChamberMaster//Event Calendar 2.0//EN
METHOD:PUBLISH
X-PUBLISHED-TTL:P3D
REFRESH-INTERVAL:P3D
CALSCALE:GREGORIAN
BEGIN:VEVENT
DTSTART:20111110T163000Z
DTEND:20111110T180000Z
X-MICROSOFT-CDO-ALLDAYEVENT:FALSE
SUMMARY:LUNCH + LEARN @ FAU SeaTech
DESCRIPTION:FAU SeaTech \n\n	 Chad Edwards \n\n	Craven Thompson & Assoc\n\n	Chad will discuss plans to develop the City Marina.   The Dania Beach campus is FAU's Institute for Ocean and Systems Engineering\,  on 8 acres between the Atlantic Ocean and the Intracoastal  in Dania Beach\,\n\n	                                with valuable access to the ocean and seawater.
X-ALT-DESC;FMTTYPE=text/html:<p style="text-align: center">\n	<span style="font-size: 16px"><span style="font-family: albertus\, sans-serif">FAU SeaTech</span>&nbsp\;</span><br />\n	&nbsp\;<span style="font-size: 14px"><span style="font-size: 18px"><strong><span style="color: black"><span style="font-family: arial\, sans-serif"><span style="font-size: 20px">Chad Edwards&nbsp\;</span><br />\n	Craven Thompson &amp\; Assoc</span></span></strong></span></span><br />\n	<span style="font-size: 14px"><span style="color: black"><span style="font-family: arial\, sans-serif">Chad will&nbsp\;discuss plans to develop the City Marina.&nbsp\;</span></span></span><span style="font-size: 12px"><span style="font-family: verdana\, sans-serif">&nbsp\; The Dania Beach campus is FAU&#39\;s Institute for Ocean and Systems Engineering\,&nbsp\;&nbsp\;on 8 acres between the Atlantic Ocean and the Intracoastal&nbsp\;</span><span style="font-family: verdana\, sans-serif">&nbsp\;in Dania Beach\,<br />\n	&nbsp\;&nbsp\;&nbsp\;&nbsp\;&nbsp\;&nbsp\;&nbsp\;&nbsp\;&nbsp\;&nbsp\;&nbsp\;&nbsp\;&nbsp\;&nbsp\;&nbsp\;&nbsp\;&nbsp\;&nbsp\;&nbsp\;&nbsp\;&nbsp\;&nbsp\;&nbsp\;&nbsp\;&nbsp\;&nbsp\;&nbsp\;&nbsp\;&nbsp\;&nbsp\; &nbsp\;<strong><span style="font-size: 16px"><em>with</em> <em>valuable</em> <em>access to the ocean and seawater.</em></span></strong></span></span><br />\n	<strong><span style="font-size: 16px">&nbsp\;</span></strong><br />\n	&nbsp\;</p>\n
LOCATION:FAU SeaTech 101 N Beach Road Dania Beach Plenty of Parking
UID:e.828.237
SEQUENCE:3
DTSTAMP:20260425T233044Z
URL:http://business.daniabeachchamber.org/events/details/lunch-learn-fau-seatech-11-10-2011-237
END:VEVENT

END:VCALENDAR
