BEGIN:VCALENDAR
VERSION:2.0
PRODID:-//ChamberMaster//Event Calendar 2.0//EN
METHOD:PUBLISH
X-PUBLISHED-TTL:P3D
REFRESH-INTERVAL:P3D
CALSCALE:GREGORIAN
BEGIN:VEVENT
DTSTART:20110819T154500Z
DTEND:20110819T170000Z
X-MICROSOFT-CDO-ALLDAYEVENT:FALSE
SUMMARY:LUNCH+LEARN Location Manger for "The Glades" as keynote speaker
DESCRIPTION:GUEST SPEAKER:\n\nLeah Weintraub Sokolowsky \n\n\n\nSokolowsky has served as a location scout\, assistant location manager\, and location manager for projects ranging from movies such as "There's Something About Mary" and "Any Given Sunday" and television series including "CSI Miami" and the A&E current hit series "The Glades". Join us as Ms. Sokolowsky explains the Location Scout/Location Manager role in the production of filmmaking for various media including television\, feature films\, documentaries and commercials. Dania Beach has been the backdrop for Palm Glades\, including familiar locations such as Docker's Restaurant\, Rexall Pharmacy and the City of Dania Beach parking garage while under construction.
X-ALT-DESC;FMTTYPE=text/html:GUEST SPEAKER:<br />\n<strong>Leah Weintraub Sokolowsky </strong><br />\n<br />\nSokolowsky has served as a location scout\, assistant location manager\, and location manager for projects ranging from movies such as &quot\;There&#39\;s Something About Mary&quot\; and &quot\;Any Given Sunday&quot\; and television series including &quot\;CSI Miami&quot\; and the A&amp\;E current hit series &quot\;The Glades&quot\;. Join us as Ms. Sokolowsky explains the Location Scout/Location Manager role in the production of filmmaking for various media including television\, feature films\, documentaries and commercials. Dania Beach has been the backdrop for Palm Glades\, including familiar locations such as Docker&#39\;s Restaurant\, Rexall Pharmacy and the City of Dania Beach parking garage while under construction. 
LOCATION:Cambria Suites Hotel 141 SW 19th Ct Dania Beach 33004
UID:e.828.218
SEQUENCE:3
DTSTAMP:20260426T035840Z
URL:http://business.daniabeachchamber.org/events/details/lunch-learn-location-manger-for-the-glades-as-keynote-speaker-08-19-2011-218
END:VEVENT

END:VCALENDAR
