BEGIN:VCALENDAR
VERSION:2.0
PRODID:-//ChamberMaster//Event Calendar 2.0//EN
METHOD:PUBLISH
X-PUBLISHED-TTL:P3D
REFRESH-INTERVAL:P3D
CALSCALE:GREGORIAN
BEGIN:VEVENT
DTSTART:20140204T163000Z
DTEND:20140204T180000Z
X-MICROSOFT-CDO-ALLDAYEVENT:FALSE
SUMMARY:Lunch & Learn_Financial Fitness
DESCRIPTION:Learn the secret tips to negotiate the best possible credit card rates for your business\n\nEveryone who attends will be offered a Free Gift & Loyalty card program for their business ($850 value)\n\nLearn about alternative funding solutions.
X-ALT-DESC;FMTTYPE=text/html:Learn the secret tips to negotiate the best possible credit card rates for your business<br />\nEveryone who attends will be offered a Free Gift &amp\; Loyalty card program for their business ($850 value)<br />\nLearn about alternative funding solutions.
LOCATION:Tropical Acres 2500 Griffin Rd\, Ft Laud.\, FL 33312
UID:e.828.984
SEQUENCE:3
DTSTAMP:20260424T031852Z
URL:http://business.daniabeachchamber.org/events/details/lunch-learn_financial-fitness-02-04-2014-984
END:VEVENT

END:VCALENDAR
