BEGIN:VCALENDAR
VERSION:2.0
PRODID:-//ChamberMaster//Event Calendar 2.0//EN
METHOD:PUBLISH
X-PUBLISHED-TTL:P3D
REFRESH-INTERVAL:P3D
CALSCALE:GREGORIAN
BEGIN:VEVENT
DTSTART:20150729T213000Z
DTEND:20150729T233000Z
X-MICROSOFT-CDO-ALLDAYEVENT:FALSE
SUMMARY:Multi Chamber Business After Hours
DESCRIPTION:Multi Chamber  Business After Hours\n\nTurnberry Spa\n\nWednesday July 29th from 5 to 7pm
X-ALT-DESC;FMTTYPE=text/html:<span style="font-family:calibri\,sans-serif\;"><span style="font-size:11.0pt\;">Multi Chamber&nbsp\; Business After Hours<br>\nTurnberry Spa</span></span><br>\n<span style="font-family:calibri\,sans-serif\;"><span style="font-size:11.0pt\;">Wednesday July 29<sup>th</sup> from 5 to 7pm </span></span>
LOCATION:TURNBERRY ISLE MIAMI 19999 West Country Club Drive Aventura\, Florida 33180 P. (786) 279-6292 F. (305) 936-2992 TurnberryIsleMiami.com
UID:e.828.1057
SEQUENCE:3
DTSTAMP:20260423T010228Z
URL:http://business.daniabeachchamber.org/events/details/multi-chamber-business-after-hours-07-29-2015-1057
END:VEVENT

END:VCALENDAR
