BEGIN:VCALENDAR
VERSION:2.0
PRODID:-//ChamberMaster//Event Calendar 2.0//EN
METHOD:PUBLISH
X-PUBLISHED-TTL:P3D
REFRESH-INTERVAL:P3D
CALSCALE:GREGORIAN
BEGIN:VEVENT
DTSTART:20151001T220000Z
DTEND:20151002T000000Z
X-MICROSOFT-CDO-ALLDAYEVENT:FALSE
SUMMARY:Multi Chamber Business Expo Networker
DESCRIPTION:Multi-Chamber Business Expo Networker\n\nThursday\, October 1st at 6pm\n\nGulfstream Park Racing & Casino ~ Sport of Kings\n\n901 S. Federal Hwy | Hallandale Beach 33009\n\n$200 per table ~ Limited tables available
X-ALT-DESC;FMTTYPE=text/html:<p style="line-height:20.7999992370605px\;margin:0in 0in 0.0001pt\;padding:0\;color:#606060\;font-family:Helvetica\;font-size:15px\;text-align:left"><span style="color:#0000CD\;"><span style="font-size: 16px\;"><strong><span style="font-size:18px\;">Multi-Chamber Business Expo Networker</span></strong><br />\nThursday\, October 1st at 6pm</span></span></p>\n\n<h4 dir="ltr" style="margin:0px\;padding:0px\;font-family:Helvetica\;font-size:16px\;line-height:20px\;color:#808080!important\;display:block\;font-style:normal\;font-weight:bold\;letter-spacing:normal\;text-align:left"><span style="color:#0000CD\;"><span style="font-size: 16px\;">Gulfstream Park Racing &amp\; Casino ~&nbsp\;Sport of Kings<br />\n901 S. Federal Hwy | Hallandale Beach 33009<br />\n$200 per table ~ Limited tables available</span></span></h4>\n
LOCATION:Gulfstream Park Racing & Casino Sport of Kings Room 901 S. Federal Hwy | Hallandale Beach 33009
UID:e.828.1056
SEQUENCE:3
DTSTAMP:20260422T204215Z
URL:http://business.daniabeachchamber.org/events/details/multi-chamber-business-expo-networker-10-01-2015-1056
END:VEVENT

END:VCALENDAR
