BEGIN:VCALENDAR
VERSION:2.0
PRODID:-//ChamberMaster//Event Calendar 2.0//EN
METHOD:PUBLISH
X-PUBLISHED-TTL:P3D
REFRESH-INTERVAL:P3D
CALSCALE:GREGORIAN
BEGIN:VEVENT
DTSTART:20120421T140000Z
DTEND:20120421T180000Z
X-MICROSOFT-CDO-ALLDAYEVENT:FALSE
SUMMARY:NEW DOG PARK GRAND OPENING DANIA BEACH
DESCRIPTION:Dania Beach First Dog Park\n\n	\n\n	PRECIOUS PAWS DOG PARK\n\n	GRAND OPENING
X-ALT-DESC;FMTTYPE=text/html:<p>\n	Dania Beach First Dog Park<br />\n	<br />\n	PRECIOUS PAWS DOG PARK<br />\n	GRAND OPENING</p>\n
LOCATION:P.J. Meli Park 2901 SW 52nd Street Dania Beach 33312
UID:e.828.264
SEQUENCE:3
DTSTAMP:20260425T145157Z
URL:http://business.daniabeachchamber.org/events/details/new-dog-park-grand-opening-dania-beach-04-21-2012-264
END:VEVENT

END:VCALENDAR
