BEGIN:VCALENDAR
VERSION:2.0
PRODID:-//ChamberMaster//Event Calendar 2.0//EN
METHOD:PUBLISH
X-PUBLISHED-TTL:P3D
REFRESH-INTERVAL:P3D
CALSCALE:GREGORIAN
BEGIN:VEVENT
DTSTART:20140916T140000Z
DTEND:20140916T170000Z
X-MICROSOFT-CDO-ALLDAYEVENT:FALSE
SUMMARY:Quarterly Membership Lunch_Wellness Seminar
DESCRIPTION:
X-ALT-DESC;FMTTYPE=text/html:
LOCATION:I.G.F.A. 300 Gulf Stream Way\, Dania Beach\, FL 33004
UID:e.828.1015
SEQUENCE:3
DTSTAMP:20260423T162215Z
URL:http://business.daniabeachchamber.org/events/details/quarterly-membership-lunch_wellness-seminar-09-16-2014-1015
END:VEVENT

END:VCALENDAR
