BEGIN:VCALENDAR
VERSION:2.0
PRODID:-//ChamberMaster//Event Calendar 2.0//EN
METHOD:PUBLISH
X-PUBLISHED-TTL:P3D
REFRESH-INTERVAL:P3D
CALSCALE:GREGORIAN
BEGIN:VEVENT
DTSTART:20120329T220000Z
DTEND:20120330T000000Z
X-MICROSOFT-CDO-ALLDAYEVENT:FALSE
SUMMARY:REGIONAL CHAMBER NETWORKING 2012
DESCRIPTION:Network with Business Professionals and Chamber members from\n\n       \n\nHallandale Beach Chamber\n\n      Hollywood Chamber\n\n           Dania Beach Chamber\n\n                 Davie Cooper City\n\n                      Miramar Pembroke
X-ALT-DESC;FMTTYPE=text/html:<span style="color: #b22222"><span style="font-size: 11px">Network with Business Professionals and Chamber members from<br />\n&nbsp\;&nbsp\;&nbsp\;&nbsp\;&nbsp\;&nbsp\;</span><span style="font-size: 20px"><span style="font-size: 11px">&nbsp\;</span><br />\n<span style="font-size: 14px">Hallandale Beach Chamber<br />\n&nbsp\;&nbsp\;&nbsp\;&nbsp\;&nbsp\;&nbsp\;Hollywood Chamber<br />\n&nbsp\;&nbsp\;&nbsp\;&nbsp\;&nbsp\;&nbsp\;&nbsp\;&nbsp\;&nbsp\;&nbsp\;&nbsp\;Dania Beach Chamber<br />\n&nbsp\;&nbsp\;&nbsp\;&nbsp\;&nbsp\;&nbsp\;&nbsp\;&nbsp\;&nbsp\;&nbsp\;&nbsp\;&nbsp\;&nbsp\;&nbsp\;&nbsp\;&nbsp\;&nbsp\;Davie Cooper City<br />\n&nbsp\;&nbsp\;&nbsp\;&nbsp\;&nbsp\;&nbsp\;&nbsp\;&nbsp\;&nbsp\;&nbsp\;&nbsp\;&nbsp\;&nbsp\;&nbsp\;&nbsp\;&nbsp\;&nbsp\;&nbsp\;&nbsp\;&nbsp\;&nbsp\;&nbsp\;Miramar Pembroke</span></span></span><br />\n&nbsp\;&nbsp\;&nbsp\;&nbsp\;&nbsp\;&nbsp\;&nbsp\;&nbsp\;&nbsp\;&nbsp\;&nbsp\;&nbsp\;&nbsp\;&nbsp\;&nbsp\;&nbsp\;&nbsp\;&nbsp\;&nbsp\;&nbsp\;&nbsp\;&nbsp\;&nbsp\;&nbsp\;&nbsp\;&nbsp\;&nbsp\;&nbsp\;&nbsp\;&nbsp\;&nbsp\;&nbsp\;&nbsp\;&nbsp\;&nbsp\;&nbsp\;&nbsp\;&nbsp\;&nbsp\;&nbsp\;&nbsp\;&nbsp\;&nbsp\;&nbsp\;&nbsp\;&nbsp\;&nbsp\;&nbsp\;&nbsp\;&nbsp\;&nbsp\;&nbsp\;&nbsp\;&nbsp\;&nbsp\;&nbsp\;
LOCATION:Join us THURSDAY March 29TH MEMORIAL REGIONAL HOSPITAL Audtiorium 3501 Johnson Street Hollywood Parking is free\, tickets will be validated
UID:e.828.155
SEQUENCE:3
DTSTAMP:20260425T162721Z
URL:http://business.daniabeachchamber.org/events/details/regional-chamber-networking-2012-03-29-2012-155
END:VEVENT

END:VCALENDAR
