BEGIN:VCALENDAR
VERSION:2.0
PRODID:-//ChamberMaster//Event Calendar 2.0//EN
METHOD:PUBLISH
X-PUBLISHED-TTL:P3D
REFRESH-INTERVAL:P3D
CALSCALE:GREGORIAN
BEGIN:VEVENT
DTSTART:20120323T210000Z
DTEND:20120324T160000Z
X-MICROSOFT-CDO-ALLDAYEVENT:FALSE
SUMMARY:RELAY FOR LIFE
DESCRIPTION:Relay For Life is a life-changing event that gives everyone in communities across the globe a chance to celebrate the lives of people who have battled cancer\, remember loved ones lost\, and fight back against the disease.\n\n	At Relay\, teams of people camp out at a local high school\, park\, or fairground and take turns walking or running around a track or path. Because cancer never sleeps\, Relays are overnight events up to 24 hours in length. Relayers do not have to walk all night\, but each team is asked to have a representative on the track at all times during the event.
X-ALT-DESC;FMTTYPE=text/html:<p>\n	<em><u><span style="color: #4b0082"><strong>Relay For Life</strong></span></u></em> is a life-changing event that gives everyone in communities across the globe a chance to celebrate the lives of people who have battled cancer\, remember loved ones lost\, and fight back against the disease.</p>\n<p>\n	At Relay\, teams of people camp out at a local high school\, park\, or fairground and take turns walking or running around a track or path. Because cancer never sleeps\, Relays are overnight events up to 24 hours in length. Relayers do not have to walk all night\, but each team is asked to have a representative on the track at all times during the event.</p>\n
LOCATION:2012 Relay For Life of Dania Beach\, FL Friday March 23 & Saturday March 24th 5:00 PM at Frost Park - 300 NE 2nd Street
UID:e.828.261
SEQUENCE:3
DTSTAMP:20260425T162352Z
URL:http://business.daniabeachchamber.org/events/details/relay-for-life-03-23-2012-261
END:VEVENT

END:VCALENDAR
