BEGIN:VCALENDAR
VERSION:2.0
PRODID:-//ChamberMaster//Event Calendar 2.0//EN
METHOD:PUBLISH
X-PUBLISHED-TTL:P3D
REFRESH-INTERVAL:P3D
CALSCALE:GREGORIAN
BEGIN:VEVENT
DTSTART:20160507T200000Z
DTEND:20160508T020000Z
X-MICROSOFT-CDO-ALLDAYEVENT:FALSE
SUMMARY:RELAY FOR LIFE
DESCRIPTION:Relay For Life is a life-changing event that gives everyone in communities across the globe a chance to celebrate the lives of people who have battled cancer\, remember loved ones lost\, and fight back against the disease.
X-ALT-DESC;FMTTYPE=text/html:<p><em><u><span style="color: #4b0082"><strong>Relay For Life</strong></span></u></em> is a life-changing event that gives everyone in communities across the globe a chance to celebrate the lives of people who have battled cancer\, remember loved ones lost\, and fight back against the disease.</p>\n\n<p>&nbsp\;</p>\n
LOCATION:2016 Relay For Life of Dania Beach\, FL Saturday May 7th\, 2016 4:00 PM at Frost Park - 300 NE 2nd Street
UID:e.828.1099
SEQUENCE:3
DTSTAMP:20260420T055605Z
URL:http://business.daniabeachchamber.org/events/details/relay-for-life-05-07-2016-1099
END:VEVENT

END:VCALENDAR
