BEGIN:VCALENDAR
VERSION:2.0
PRODID:-//ChamberMaster//Event Calendar 2.0//EN
METHOD:PUBLISH
X-PUBLISHED-TTL:P3D
REFRESH-INTERVAL:P3D
CALSCALE:GREGORIAN
BEGIN:VEVENT
DTSTART:20140619T140000Z
DTEND:20140620T000000Z
X-MICROSOFT-CDO-ALLDAYEVENT:FALSE
SUMMARY:Residence Inn Job Fair
DESCRIPTION:
X-ALT-DESC;FMTTYPE=text/html:
LOCATION:
UID:e.828.1008
SEQUENCE:3
DTSTAMP:20260423T205736Z
URL:http://business.daniabeachchamber.org/events/details/residence-inn-job-fair-06-19-2014-1008
END:VEVENT

END:VCALENDAR
