BEGIN:VCALENDAR
VERSION:2.0
PRODID:-//ChamberMaster//Event Calendar 2.0//EN
METHOD:PUBLISH
X-PUBLISHED-TTL:P3D
REFRESH-INTERVAL:P3D
CALSCALE:GREGORIAN
BEGIN:VEVENT
DTSTART:20120421T150000Z
DTEND:20120421T190000Z
X-MICROSOFT-CDO-ALLDAYEVENT:FALSE
SUMMARY:SHOEBOX REGATTA
DESCRIPTION:Saturday April 21  -  MIASF PLYWOOD REGATTA\n\n	click here for website\n\n	and  DANIA BEACH CHAMBER \n\n	SHOEBOX REGATTA\n\n	11am - 3pm \n\n	Prizes awarded -  Family Fun  -  FREE!!\n\n	Young children are invited to\n\n	BUILD A BOAT\n\n	out of a  "SHOEBOX"\n\n	The Marine Industry Association of South Florida welcomes the Dania Beach Chamber's\n\n	 SHOEBOX REGATTA\n\n	to their 16th Annual PLYWOOD REGATTA.  \n\n	The Plywood Regatta encourages young marine enthusiasts to work as a team over two days to build a boat on Saturday and race in Whiskey Creek at Dania Beach Ocean Park on Sunday. \n\n	Come down to the beach\, it's a BLAST!
X-ALT-DESC;FMTTYPE=text/html:<p style="text-align: center\; margin: 0in 0in 0pt">\n	<span style="font-family: 'trebuchet ms'\, 'sans-serif'\; color: #333333\; font-size: 10pt">&nbsp\;</span><span style="font-size: 12px"><span color="#000000"><span style="font-family: 'arial black'\, 'sans-serif'\; color: black">Saturday April 21&nbsp\; -&nbsp\; </span><span style="font-family: 'arial black'\, 'sans-serif'\; color: #007da1">MIASF </span><strong><span style="font-family: 'arial black'\, 'sans-serif'\; color: #007da1">PLYWOOD REGATTA</span></strong></span></span></p>\n<p style="text-align: center\; margin: 0in 0in 0pt">\n	<span style="font-size: 14px"><span color="#000000"><strong><u><span style="font-family: 'arial narrow'\, 'sans-serif'\; color: #007da1"><a href="http://r20.rs6.net/tn.jsp?e=001NTF4jpq8GFGdHhH33DbmJFz_59mgduVeZ4_hUwKPpn_sRI_w9tI7eOPNcsBObXPesemAa1-hoYARo7W_iomxl89Yzt3KuQ3OW8IQpdMSws_MhzUcmkDJlbF3GCQXXtCTm-3WZ_BBDkvkco4_L9Vp5ekS0Hv6J5A9hebnlNQDXBk=" linktype="1" shape="rect" target="_blank" track="on"><span style="color: #007da1"><font face="Arial Narrow">click here for website</font></span></a></span></u></strong></span></span></p>\n<p style="text-align: center\; margin: 0in 0in 0pt">\n	<span style="font-size: 14px"><span color="#000000"><span style="font-family: 'arial black'\, 'sans-serif'\; color: black">and&nbsp\; </span><span style="font-family: 'arial black'\, 'sans-serif'\; color: maroon">DANIA BEACH CHAMBER&nbsp\;</span><br />\n	<span style="font-family: 'arial black'\, 'sans-serif'\; color: maroon">SHOEBOX REGATTA</span></span></span></p>\n<p style="text-align: center\; margin: 0in 0in 0pt">\n	<span style="font-size: 16px"><span color="#000000"><span style="font-family: 'arial black'\, 'sans-serif'\; color: black">11am - 3pm</span><span color="#000000"><font color="#000000">&nbsp\;</font></span></span></span></p>\n<p style="text-align: center\; margin: 0in 0in 0pt">\n	<span style="font-size: 14px"><span color="#000000"><span style="font-family: 'arial black'\, 'sans-serif'\; color: #007da1">Prizes awarded -&nbsp\; </span></span><span color="#000000"><span style="font-family: 'arial black'\, 'sans-serif'\; color: #007da1">Family Fun&nbsp\; -&nbsp\; </span></span><span color="#000000"><span style="font-family: 'arial black'\, 'sans-serif'\; color: #007da1">FREE!!<br />\n	Young children are invited to</span><br />\n	<span style="font-family: 'arial black'\, 'sans-serif'"><span style="font-size: 16px">BUILD A BOAT<br />\n	out of a&nbsp\; &quot\;SHOEBOX&quot\;</span></span></span></span></p>\n<p style="text-align: center\; margin: 0in 0in 0pt">\n	<font face="Arial Narrow"><span style="font-family: 'arial narrow'\, 'sans-serif'\; color: #333333\; font-size: 10pt">The Marine Industry Association of South Florida welcomes the Dania Beach Chamber&#39\;s</span><br />\n	<strong><span style="font-family: 'arial narrow'\, 'sans-serif'\; color: maroon\; font-size: 10pt">&nbsp\;<span style="font-size: 14px">SHOEBOX REGATTA</span></span></strong><br />\n	<span style="font-family: 'arial narrow'\, 'sans-serif'\; color: #333333\; font-size: 10pt">to their 16th Annual PLYWOOD REGATTA.&nbsp\;</span></font><font face="Arial Narrow"><span style="font-family: 'arial narrow'\, 'sans-serif'\; color: #333333\; font-size: 10pt">&nbsp\;</span></font></p>\n<p style="text-align: center\; margin: 0in 0in 0pt">\n	<font face="Arial Narrow"><span style="font-family: 'arial narrow'\, 'sans-serif'\; color: #333333\; font-size: 10pt">The Plywood Regatta&nbsp\;encourages young marine enthusiasts to work as a team over two days to build a boat on Saturday and race in Whiskey Creek at Dania Beach Ocean Park on Sunday.</span></font><font face="Arial Narrow"><span style="font-family: 'arial narrow'\, 'sans-serif'\; color: #333333\; font-size: 10pt">&nbsp\;</span></font></p>\n<p style="text-align: center\; margin: 0in 0in 0pt">\n	<span style="font-family: 'arial narrow'\, 'sans-serif'\; color: #333333\; font-size: 10pt">Come down to the beach\, it&#39\;s a BLAST! </span></p>\n
LOCATION:Whiskey Creek at Dania Beach Ocean Park on Saturday On the IntraCoastal Waterway Come down to the beach\, it's a BLAST!
UID:e.828.269
SEQUENCE:3
DTSTAMP:20260425T144834Z
URL:http://business.daniabeachchamber.org/events/details/shoebox-regatta-04-21-2012-269
END:VEVENT

END:VCALENDAR
