BEGIN:VCALENDAR
VERSION:2.0
PRODID:-//ChamberMaster//Event Calendar 2.0//EN
METHOD:PUBLISH
X-PUBLISHED-TTL:P3D
REFRESH-INTERVAL:P3D
CALSCALE:GREGORIAN
BEGIN:VEVENT
DTSTART:20120421T130000Z
DTEND:20120421T140000Z
X-MICROSOFT-CDO-ALLDAYEVENT:FALSE
SUMMARY:SMALL BUSINESS WORKSHOP presented by Congresswoman Wasserman Schultz
DESCRIPTION:Congresswoman Wasserman Schultz hosts area small businesses along with Federal\, State and Local agencies providing marketing\, management and financial guidance to small business owners or those interested in starting a small business.
X-ALT-DESC;FMTTYPE=text/html:Congresswoman Wasserman Schultz hosts area small businesses along with Federal\, State and Local agencies providing marketing\, management and financial guidance to small business owners or those interested in starting a small business.
LOCATION:Broward County Convention Center 950 Eisenhower Blvd Fort Lauderdale
UID:e.828.262
SEQUENCE:3
DTSTAMP:20260425T145046Z
URL:http://business.daniabeachchamber.org/events/details/small-business-workshop-presented-by-congresswoman-wasserman-schultz-04-21-2012-262
END:VEVENT

END:VCALENDAR
