BEGIN:VCALENDAR
VERSION:2.0
PRODID:-//ChamberMaster//Event Calendar 2.0//EN
METHOD:PUBLISH
X-PUBLISHED-TTL:P3D
REFRESH-INTERVAL:P3D
CALSCALE:GREGORIAN
BEGIN:VEVENT
DTSTART;VALUE=DATE:20140223
DTEND;VALUE=DATE:20140224
TRANSP:TRANSPARENT
X-MICROSOFT-CDO-ALLDAYEVENT:TRUE
SUMMARY:Tour de Broward
DESCRIPTION:
X-ALT-DESC;FMTTYPE=text/html:
LOCATION:Miramar Regional Park 16801 Miramar Parkway Miramar\, FL
UID:e.828.989
SEQUENCE:3
DTSTAMP:20260424T031712Z
URL:http://business.daniabeachchamber.org/events/details/tour-de-broward-02-23-2014-989
END:VEVENT

END:VCALENDAR
