BEGIN:VCALENDAR
VERSION:2.0
PRODID:-//ChamberMaster//Event Calendar 2.0//EN
METHOD:PUBLISH
X-PUBLISHED-TTL:P3D
REFRESH-INTERVAL:P3D
CALSCALE:GREGORIAN
BEGIN:VEVENT
DTSTART:20121206T230000Z
DTEND:20121207T020000Z
X-MICROSOFT-CDO-ALLDAYEVENT:FALSE
SUMMARY:Trim A Tree Starlight Decorating Challenge
DESCRIPTION:Come out and vote for our Tree in support of Starlight Children's Foundation. First prize is $5\,000 to the winning charity.\n\n\n\n\n\nOur Tree is in front of the Poker Room\n\nRegister and pick up your chip to vote at the BIG Tree in front of Hooters.\n\n\n\nThank you in Advance for your SUPPORT!
X-ALT-DESC;FMTTYPE=text/html:<span style="font-size:16px\;"><span style="font-family: verdana\;">Come out and vote for our Tree in support of Starlight Children&#39\;s Foundation. First prize is $5\,000 to the winning charity.</span></span><br />\n<br />\n<br />\n<span style="font-size:16px\;"><span style="font-family: verdana\;">Our Tree is in front of the Poker Room<br />\nRegister and pick up your chip to vote at the BIG Tree in front of Hooters.<br />\n<br />\nThank you in Advance for your SUPPORT!</span></span>
LOCATION:Seminole Hard Rock Hotel and Casino
UID:e.828.840
SEQUENCE:3
DTSTAMP:20260425T014336Z
URL:http://business.daniabeachchamber.org/events/details/trim-a-tree-starlight-decorating-challenge-12-06-2012-840
END:VEVENT

END:VCALENDAR
