BEGIN:VCALENDAR
VERSION:2.0
PRODID:-//ChamberMaster//Event Calendar 2.0//EN
METHOD:PUBLISH
X-PUBLISHED-TTL:P3D
REFRESH-INTERVAL:P3D
CALSCALE:GREGORIAN
BEGIN:VEVENT
DTSTART:20111105T150000Z
DTEND:20111105T190000Z
X-MICROSOFT-CDO-ALLDAYEVENT:FALSE
SUMMARY:UNDER THE BIG TOP including a SALUTE TO OUR MILITARY
DESCRIPTION:Under\n\nThe Big Top\n\nSat\,   Nov 5  -  11am-3pm\n\n1200 Stirling Road\n\nDania Beach Design District\n\nCirque du Design\n\nLive Music\n\nFabulous Cars\n\nBallet Performance\n\nKid Zone\n\n\n	Miami Food Trucks Round-Up\n\n	25 Gourmet Offerings\n \n\nMilitary Room Makeover\n\nDeserving Veterans will receive a room makeover in their home. Presentations @ 12:00 noon\n\n8 Participating Cities and\n\n\n	Chambers of Commerce\nParking@ 1211 Stirling (south side)    FREE shuttle to event \n\nValet parking available \n\n1100 Stirling Road at SW 12th Ave (north side)
X-ALT-DESC;FMTTYPE=text/html:&nbsp\;<span style="color: #b22222"><strong><span style="font-size: 42pt"><span style="font-family: curlz mt">Under</span></span></strong><br />\n<strong><span style="font-size: 38pt"><span style="font-family: curlz mt">The Big Top</span></span></strong></span><br />\n<strong><span style="font-size: 24pt"><span style="font-family: mona lisa recut">Sat\,&nbsp\;&nbsp\; Nov 5&nbsp\; -&nbsp\; 11am-3pm</span></span></strong><br />\n<strong><span style="font-size: 24pt"><span style="font-family: mona lisa recut">1200 Stirling Road</span></span></strong><br />\n<strong><span style="font-size: 16pt"><span style="font-family: albertus mt\,sans-serif">Dania Beach Design District</span></span></strong><br />\n<span style="font-size: 14pt">Cirque du Design</span><br />\n<span style="font-size: 14pt">Live Music</span><br />\n<span style="font-size: 14pt">Fabulous Cars</span><br />\n<span style="font-size: 14pt">Ballet Performance</span><br />\n<span style="font-size: 14pt">Kid Zone</span><br />\n<div style="border-bottom: windowtext 1pt solid\; border-left: medium none\; padding-bottom: 1pt\; padding-left: 0in\; padding-right: 0in\; border-top: medium none\; border-right: medium none\; padding-top: 0in">\n	<span style="font-size: 14pt">Miami Food Trucks Round-Up</span><br />\n	<span style="font-size: 14pt">25 Gourmet Offerings</span></div>\n&nbsp\;<br />\n<span style="color: #000080"><strong><span style="font-size: 22pt"><span style="font-family: georgia\,serif">Military Room Makeover</span></span></strong></span><br />\n<span style="font-size: 14pt">Deserving Veterans will receive a room makeover in their home. Presentations @ 12:00 noon</span><br />\n<span style="font-size: 14pt">8 Participating Cities and</span><br />\n<div style="border-bottom: windowtext 1pt solid\; border-left: medium none\; padding-bottom: 1pt\; padding-left: 0in\; padding-right: 0in\; border-top: medium none\; border-right: medium none\; padding-top: 0in">\n	<span style="font-size: 14pt">Chambers of Commerce</span></div>\n<strong><span style="font-size: 14pt">Parking</span></strong><span style="font-size: 14pt">@ 1211 Stirling (south side)&nbsp\;&nbsp\;&nbsp\; </span><strong><span style="font-size: 14pt">FREE </span></strong><span style="font-size: 14pt">shuttle to event </span><br />\n<strong><span style="font-size: 14pt">Valet </span></strong><span style="font-size: 14pt">parking available&nbsp\;<br />\n1100 Stirling Road at SW 12th Ave&nbsp\;(north side)</span><br />\n
LOCATION:1200 STIRLING ROAD DANIA BEACH MARINE AND DESIGN CENTER
UID:e.828.233
SEQUENCE:3
DTSTAMP:20260425T235606Z
URL:http://business.daniabeachchamber.org/events/details/under-the-big-top-including-a-salute-to-our-military-11-05-2011-233
END:VEVENT

END:VCALENDAR
