BEGIN:VCALENDAR
VERSION:2.0
PRODID:-//ChamberMaster//Event Calendar 2.0//EN
METHOD:PUBLISH
X-PUBLISHED-TTL:P3D
REFRESH-INTERVAL:P3D
CALSCALE:GREGORIAN
BEGIN:VEVENT
DTSTART:20130910T220000Z
DTEND:20130911T003000Z
X-MICROSOFT-CDO-ALLDAYEVENT:FALSE
SUMMARY:UP THE RIVER CRUISE
DESCRIPTION:2 Hour "Jail and Bail" Cruise\n\nbenefiting American Cancer Society\n\nALL You Care to Eat\n\nCasual Attire\n\nLeaves from Bahia Mar at 6:30 pm
X-ALT-DESC;FMTTYPE=text/html:<span style="font-family:verdana\;"><span style="color:#0000cd\;"><span style="font-size: 16px\;">2 Hour &quot\;Jail and Bail&quot\; Cruise<br />\nbenefiting American Cancer Society<br />\nALL You Care to Eat<br />\nCasual Attire<br />\nLeaves from Bahia Mar at 6:30 pm</span></span></span><br />\n
LOCATION:Bahia Mar 801 Seabreeze Blvd. Fort Lauderdale\, FL 33316
UID:e.828.898
SEQUENCE:3
DTSTAMP:20260424T111040Z
URL:http://business.daniabeachchamber.org/events/details/up-the-river-cruise-09-10-2013-898
END:VEVENT

END:VCALENDAR
