BEGIN:VCALENDAR
VERSION:2.0
PRODID:-//ChamberMaster//Event Calendar 2.0//EN
METHOD:PUBLISH
X-PUBLISHED-TTL:P3D
REFRESH-INTERVAL:P3D
CALSCALE:GREGORIAN
BEGIN:VEVENT
DTSTART:20150604T210000Z
DTEND:20150605T000000Z
X-MICROSOFT-CDO-ALLDAYEVENT:FALSE
SUMMARY:Wishes Granted Polynesian Getaway
DESCRIPTION:A cocktail fundraiser to benefit the Wishes Granted Program of Catholic Hospice. Catholic Hospice has implemented a new initiative called ?Wishes Granted.? The program?s mission is to allow our patients the opportunity to live out their last wish\, whether it is a special dinner with a loved one\, a birthday or anniversary celebration\, outings to area attractions\, home repairs\, or even a spa/beauty day. Funding for this program will allow us the opportunity to fulfill the fondest wishes of those facing the final phases of their life. We also hope to provide the family of the patient with special memories of the day their loved one was granted their final wish. With the generous support of our community we intend to make it our goal to ensure that all unfulfilled wishes are granted. Please help us make our patients final wishes come true!
X-ALT-DESC;FMTTYPE=text/html:A cocktail fundraiser to benefit the Wishes Granted Program of Catholic Hospice. Catholic Hospice has implemented a new initiative called ?Wishes Granted.? The program?s mission is to allow our patients the opportunity to live out their last wish\, whether it is a special dinner with a loved one\, a birthday or anniversary celebration\, outings to area attractions\, home repairs\, or even a spa/beauty day. Funding for this program will allow us the opportunity to fulfill the fondest wishes of those facing the final phases of their life. We also hope to provide the family of the patient with special memories of the day their loved one was granted their final wish. With the generous support of our community we intend to make it our goal to ensure that all unfulfilled wishes are granted. Please help us make our patients final wishes come true!
LOCATION:Mai-Kai Restaurant 3599 N. Federal Highway Fort Lauderdale\, FL 33308
UID:e.828.1055
SEQUENCE:3
DTSTAMP:20260423T023516Z
URL:http://business.daniabeachchamber.org/events/details/wishes-granted-polynesian-getaway-06-04-2015-1055
END:VEVENT

END:VCALENDAR
