BEGIN:VCALENDAR
VERSION:2.0
PRODID:-//ChamberMaster//Event Calendar 2.0//EN
METHOD:PUBLISH
X-PUBLISHED-TTL:P3D
REFRESH-INTERVAL:P3D
CALSCALE:GREGORIAN
BEGIN:VEVENT
DTSTART:20111130T164500Z
DTEND:20111130T180000Z
X-MICROSOFT-CDO-ALLDAYEVENT:FALSE
SUMMARY:WITI's 2nd Annual Women to Watch Luncheon
DESCRIPTION:WITI 's (Women In Technology International) South Florida Network will honor the recipients of the 2nd Annual WITI 'Women to Watch' Awards on November 30\, 2011 at JM Family in Deerfield Beach\, FL.\n\n\n\nWe will also have the honor to listen Dr. Alicia Abella is Executive Director of the Innovative Services Research Department at AT&T Labs Research.\n\n\n\nThe purpose of the WITI South Florida's Women to Watch award is to honor and recognize rising as well as existing leaders within their Company and Community.\n\n\n\nAre criterions for selecting the honorees are:\n\nA strong performer driving business achievement within their organization.\n\nA leader both within their organization and outside of their organization.\n\nA person engaged in outside activities in the community.\n\n\n\nWITI Founder and Chairwoman\, explains\, "Historically\, too many notable achievements by women have gone unrecognized. WITI was founded to provide a platform to recognize women whose contributions to technology and science and commitment to advancing women can be celebrated and recorded. WITI Networks are an extension of these endeavors and serve to honor and connect women directly in their local communities."\n\n\n\nLunch and dessert is included with the registration cost.
X-ALT-DESC;FMTTYPE=text/html:WITI &lsquo\;s (Women In Technology International) South Florida Network will honor the recipients of the 2nd Annual WITI &lsquo\;Women to Watch&rsquo\; Awards on November 30\, 2011 at JM Family in Deerfield Beach\, FL.<br />\n<br />\nWe will also have the honor to listen Dr. Alicia Abella is Executive Director of the Innovative Services Research Department at AT&amp\;T Labs Research.<br />\n<br />\nThe purpose of the WITI South Florida&#39\;s Women to Watch award is to honor and recognize rising as well as existing leaders within their Company and Community.<br />\n<br />\nAre criterions for selecting the honorees are:<br />\nA strong performer driving business achievement within their organization.<br />\nA leader both within their organization and outside of their organization.<br />\nA person engaged in outside activities in the community.<br />\n<br />\nWITI Founder and Chairwoman\, explains\, &ldquo\;Historically\, too many notable achievements by women have gone unrecognized. WITI was founded to provide a platform to recognize women whose contributions to technology and science and commitment to advancing women can be celebrated and recorded. WITI Networks are an extension of these endeavors and serve to honor and connect women directly in their local communities.&rdquo\;<br />\n<br />\nLunch and dessert is included with the registration cost.<br />\n
LOCATION:JM Family 100 Jim Moran Blvd. Deerfield Beach\, Florida 33442
UID:e.828.236
SEQUENCE:3
DTSTAMP:20260425T234846Z
URL:http://business.daniabeachchamber.org/events/details/witi-s-2nd-annual-women-to-watch-luncheon-11-30-2011-236
END:VEVENT

END:VCALENDAR
